BEGIN:VCALENDAR
VERSION:2.0
PRODID:-//demosphere.net//NONSGML kigkonsult.se iCalcreator 2.22.1//
METHOD:REQUEST
X-WR-TIMEZONE:Europe/Paris
BEGIN:VEVENT
UID:https://carcassonne.demosphere.net/rv/3986
DTSTAMP:20260424T163000Z
DESCRIPTION:plus d'infos sur : https://carcassonne.demosphere.net/rv/3986
DTSTART:20260424T163000Z
DTEND:20260424T173000Z
GEO:+43.185271;+3.000312
LOCATION:Narbonne\, \nParvis de la Mediathèque
SUMMARY:Rassemblement de solidarité avec la Palestine
URL:https://carcassonne.demosphere.net/rv/3986
END:VEVENT
END:VCALENDAR
