BEGIN:VCALENDAR
VERSION:2.0
PRODID:-//demosphere.net//NONSGML kigkonsult.se iCalcreator 2.22.1//
METHOD:REQUEST
X-WR-TIMEZONE:Europe/Paris
BEGIN:VEVENT
UID:https://carcassonne.demosphere.net/rv/3949
DTSTAMP:20260530T133000Z
DESCRIPTION:plus d'infos sur : https://carcassonne.demosphere.net/rv/3949
DTSTART:20260530T133000Z
DTEND:20260530T143000Z
GEO:+43.179823;+3.014842
LOCATION:Narbonne\, \nParvis du Theatre
SUMMARY:Marche des Fiertés
URL:https://carcassonne.demosphere.net/rv/3949
END:VEVENT
END:VCALENDAR
